BEGIN:VCALENDAR
VERSION:2.0
PRODID:-//Mall-Herlan AG - ECPv6.15.14//NONSGML v1.0//EN
CALSCALE:GREGORIAN
METHOD:PUBLISH
X-WR-CALNAME:Mall-Herlan AG
X-ORIGINAL-URL:https://mall-herlan.com
X-WR-CALDESC:Events for Mall-Herlan AG
REFRESH-INTERVAL;VALUE=DURATION:PT1H
X-Robots-Tag:noindex
X-PUBLISHED-TTL:PT1H
BEGIN:VTIMEZONE
TZID:America/Halifax
BEGIN:DAYLIGHT
TZOFFSETFROM:-0400
TZOFFSETTO:-0300
TZNAME:ADT
DTSTART:20240310T060000
END:DAYLIGHT
BEGIN:STANDARD
TZOFFSETFROM:-0300
TZOFFSETTO:-0400
TZNAME:AST
DTSTART:20241103T050000
END:STANDARD
BEGIN:DAYLIGHT
TZOFFSETFROM:-0400
TZOFFSETTO:-0300
TZNAME:ADT
DTSTART:20250309T060000
END:DAYLIGHT
BEGIN:STANDARD
TZOFFSETFROM:-0300
TZOFFSETTO:-0400
TZNAME:AST
DTSTART:20251102T050000
END:STANDARD
BEGIN:DAYLIGHT
TZOFFSETFROM:-0400
TZOFFSETTO:-0300
TZNAME:ADT
DTSTART:20260308T060000
END:DAYLIGHT
BEGIN:STANDARD
TZOFFSETFROM:-0300
TZOFFSETTO:-0400
TZNAME:AST
DTSTART:20261101T050000
END:STANDARD
END:VTIMEZONE
BEGIN:VEVENT
DTSTART;VALUE=DATE:20250429
DTEND;VALUE=DATE:20250502
DTSTAMP:20260422T101108
CREATED:20241206T101237Z
LAST-MODIFIED:20241206T204248Z
UID:32209-1745884800-1746143999@mall-herlan.com
SUMMARY:Cannex & Fillex 2025
DESCRIPTION:
URL:https://mall-herlan.com/event/cannex-fillex-2025/
LOCATION:Denver\, CO\, United States
ATTACH;FMTTYPE=image/png:https://mall-herlan.com/wp-content/uploads/2024/12/Unknown.png
END:VEVENT
BEGIN:VEVENT
DTSTART;VALUE=DATE:20250228
DTEND;VALUE=DATE:20250302
DTSTAMP:20260422T101108
CREATED:20241206T090730Z
LAST-MODIFIED:20241206T204257Z
UID:32203-1740700800-1740873599@mall-herlan.com
SUMMARY:IAE (Indian Aerosol Expo) 2025
DESCRIPTION:
URL:https://mall-herlan.com/event/iae-indian-aerosol-expo-2025/
LOCATION:Mumbai\, India
ATTACH;FMTTYPE=image/png:https://mall-herlan.com/wp-content/uploads/2024/12/IAE-2025.png
END:VEVENT
BEGIN:VEVENT
DTSTART;VALUE=DATE:20250128
DTEND;VALUE=DATE:20250130
DTSTAMP:20260422T101108
CREATED:20240709T061034Z
LAST-MODIFIED:20241206T204218Z
UID:6578-1738022400-1738195199@mall-herlan.com
SUMMARY:Paris Packaging Week 2025
DESCRIPTION:
URL:https://mall-herlan.com/event/paris-packaging-week-2024/
LOCATION:Paris\, France
ATTACH;FMTTYPE=image/png:https://mall-herlan.com/wp-content/uploads/2024/07/Screenshot-2024-07-08-125140.png
END:VEVENT
END:VCALENDAR