BEGIN:VCALENDAR
VERSION:2.0
PRODID:-//Mall-Herlan AG - ECPv6.15.14//NONSGML v1.0//EN
CALSCALE:GREGORIAN
METHOD:PUBLISH
X-WR-CALNAME:Mall-Herlan AG
X-ORIGINAL-URL:https://mall-herlan.com
X-WR-CALDESC:Events for Mall-Herlan AG
REFRESH-INTERVAL;VALUE=DURATION:PT1H
X-Robots-Tag:noindex
X-PUBLISHED-TTL:PT1H
BEGIN:VTIMEZONE
TZID:Europe/Zurich
BEGIN:DAYLIGHT
TZOFFSETFROM:+0100
TZOFFSETTO:+0200
TZNAME:CEST
DTSTART:20250330T010000
END:DAYLIGHT
BEGIN:STANDARD
TZOFFSETFROM:+0200
TZOFFSETTO:+0100
TZNAME:CET
DTSTART:20251026T010000
END:STANDARD
BEGIN:DAYLIGHT
TZOFFSETFROM:+0100
TZOFFSETTO:+0200
TZNAME:CEST
DTSTART:20260329T010000
END:DAYLIGHT
BEGIN:STANDARD
TZOFFSETFROM:+0200
TZOFFSETTO:+0100
TZNAME:CET
DTSTART:20261025T010000
END:STANDARD
BEGIN:DAYLIGHT
TZOFFSETFROM:+0100
TZOFFSETTO:+0200
TZNAME:CEST
DTSTART:20270328T010000
END:DAYLIGHT
BEGIN:STANDARD
TZOFFSETFROM:+0200
TZOFFSETTO:+0100
TZNAME:CET
DTSTART:20271031T010000
END:STANDARD
END:VTIMEZONE
BEGIN:VEVENT
DTSTART;VALUE=DATE:20260505
DTEND;VALUE=DATE:20260509
DTSTAMP:20260421T201109
CREATED:20250331T143024Z
LAST-MODIFIED:20250407T162558Z
UID:33911-1777939200-1778284799@mall-herlan.com
SUMMARY:Metpack 2026
DESCRIPTION:
URL:https://mall-herlan.com/event/metpack-2026/
LOCATION:Essen\, Germany
ATTACH;FMTTYPE=image/jpeg:https://mall-herlan.com/wp-content/uploads/2025/03/metpack-2026_logo.jpg
END:VEVENT
END:VCALENDAR