BEGIN:VCALENDAR
VERSION:2.0
PRODID:-//Mall-Herlan AG - ECPv6.15.14//NONSGML v1.0//EN
CALSCALE:GREGORIAN
METHOD:PUBLISH
X-ORIGINAL-URL:https://mall-herlan.com
X-WR-CALDESC:Events for Mall-Herlan AG
REFRESH-INTERVAL;VALUE=DURATION:PT1H
X-Robots-Tag:noindex
X-PUBLISHED-TTL:PT1H
BEGIN:VTIMEZONE
TZID:Europe/Zurich
BEGIN:DAYLIGHT
TZOFFSETFROM:+0100
TZOFFSETTO:+0200
TZNAME:CEST
DTSTART:20240331T010000
END:DAYLIGHT
BEGIN:STANDARD
TZOFFSETFROM:+0200
TZOFFSETTO:+0100
TZNAME:CET
DTSTART:20241027T010000
END:STANDARD
BEGIN:DAYLIGHT
TZOFFSETFROM:+0100
TZOFFSETTO:+0200
TZNAME:CEST
DTSTART:20250330T010000
END:DAYLIGHT
BEGIN:STANDARD
TZOFFSETFROM:+0200
TZOFFSETTO:+0100
TZNAME:CET
DTSTART:20251026T010000
END:STANDARD
BEGIN:DAYLIGHT
TZOFFSETFROM:+0100
TZOFFSETTO:+0200
TZNAME:CEST
DTSTART:20260329T010000
END:DAYLIGHT
BEGIN:STANDARD
TZOFFSETFROM:+0200
TZOFFSETTO:+0100
TZNAME:CET
DTSTART:20261025T010000
END:STANDARD
END:VTIMEZONE
BEGIN:VEVENT
DTSTART;VALUE=DATE:20251006
DTEND;VALUE=DATE:20251009
DTSTAMP:20260422T042255
CREATED:20250331T142402Z
LAST-MODIFIED:20250331T142402Z
UID:33902-1759708800-1759967999@mall-herlan.com
SUMMARY:ASIA CAN TECH 2025
DESCRIPTION:
URL:https://mall-herlan.com/event/asia-can-tech-2025/
LOCATION:Bangkok\, Thailand
ATTACH;FMTTYPE=image/png:https://mall-herlan.com/wp-content/uploads/2025/03/ASIA-CANTECH-25-LOGO.png
END:VEVENT
END:VCALENDAR